Workbook

Sheet Logical Framework
A1: Lampiran A. Kerangka Kerja Logis (Logframe)
A2: Nama Mitra
A3: Judul Proyek
A4: Durasi Proyek
A5: Lokasi
A6: Tujuan Umum
A7: Sasaran Proyek
A10: No | B10: Result | C10: Indikator | D10: Sumber Verifikasi | E10: Input (di level Kegiatan) | F10: Asumsi /Resiko | G10: Rencana Mitigasi Risiko
B11: Goal :
B13: Outcome/manfaat
A14: 1 | C14: Indikator Outcome 1. | F14: Asumsi : Resiko :
A15: 2 | C15: Indikator Outcome 2. | F15: Asumsi : Resiko :
A16: 3 | C16: Indikator Outcome 3 | F16: Asumsi : Resiko :
B17: Output/Luaran | D17: sumber verifikasi ????
A18: 1.1 | F18: Asumsi : Resiko :
A19: 1.2 | F19: Asumsi : Resiko :
A20: 1.3 | F20: Asumsi : Resiko :
A21: 2.1 | F21: Asumsi : Resiko :
A22: 2.2 | F22: Asumsi : Resiko :
A23: 2.3 | F23: Asumsi : Resiko :
A24: 2.4 | F24: Asumsi : Resiko :
A25: 3.1 | F25: Asumsi : Resiko :
B26: Aktivitas
A27: 1.1.1 | F27: Asumsi : Resiko :
A28: 1.1.2 | F28: Asumsi : Resiko :
A29: 1.1.3 | F29: Asumsi : Resiko :
A30: 1.2.1 | F30: Asumsi : Resiko :
A31: 1.2.2 | F31: Asumsi : Resiko :
A32: 1.3.1 | F32: Asumsi : Resiko :
A33: 2.1.1 | F33: Asumsi : Resiko :
A34: 2.1.2 | F34: Asumsi : Resiko :
A35: 2.2.1 | F35: Asumsi : Resiko :
A36: 2.3.1 | F36: Asumsi : Resiko :
A37: 2.4.1 | F37: Asumsi : Resiko :
A38: 3.1.1 | F38: Asumsi : Resiko :

Sheet Rencana Kerja
B2: Rencana Kerja
B3: OUTCOME | C3: OUTPUT | D3: AKTIVITAS | E3: TAHUN….... | Q3: TAHUN…. | AC3: ANGGARAN
E5: 1 | F5: 2 | G5: 3 | H5: 4 | I5: 5 | J5: 6 | K5: 7 | L5: 8 | M5: 9 | N5: 10 | O5: 11 | P5: 12 | Q5: 1 | R5: 2 | S5: 3 | T5: 4 | U5: 5 | V5: 6 | W5: 7 | X5: 8 | Y5: 9 | Z5: 10 | AA5: 11 | AB5: 12
B6: ='Logical Framework'!B14 -> 0 | C6: ='Logical Framework'!B18 -> 0 | D6: ='Logical Framework'!B27 -> 0 | AC6: ='Logical Framework'!E27 -> 0
D7: ='Logical Framework'!B28 -> 0 | AC7: ='Logical Framework'!E28 -> 0
D8: ='Logical Framework'!B29 -> 0 | AC8: ='Logical Framework'!E29 -> 0
C9: ='Logical Framework'!B19 -> 0 | D9: ='Logical Framework'!B30 -> 0 | AC9: ='Logical Framework'!E30 -> 0
D10: ='Logical Framework'!B31 -> 0 | AC10: ='Logical Framework'!E31 -> 0
C11: ='Logical Framework'!B20 -> 0 | D11: ='Logical Framework'!B32 -> 0 | AC11: ='Logical Framework'!E32 -> 0
B12: ='Logical Framework'!B15 -> 0 | C12: ='Logical Framework'!B21 -> 0 | D12: ='Logical Framework'!B33 -> 0 | AC12: ='Logical Framework'!E33 -> 0
D13: ='Logical Framework'!B34 -> 0 | AC13: ='Logical Framework'!E34 -> 0
C14: ='Logical Framework'!B22 -> 0 | D14: ='Logical Framework'!B35 -> 0 | AC14: ='Logical Framework'!E35 -> 0
C15: ='Logical Framework'!B23 -> 0 | D15: ='Logical Framework'!B36 -> 0 | AC15: ='Logical Framework'!E36 -> 0
C16: ='Logical Framework'!B24 -> 0 | D16: ='Logical Framework'!B37 -> 0 | AC16: ='Logical Framework'!E37 -> 0
B17: ='Logical Framework'!B16 -> 0 | C17: ='Logical Framework'!B25 -> 0 | D17: ='Logical Framework'!B38 -> 0 | AC17: ='Logical Framework'!E38 -> 0

Sheet BUDGET
N1: IX-7.1 | O1: IX-7.2 | P1: IX-7.3 | Q1: IX-7.1 | R1: IX-7.2 | S1: IX-7.3
A2: NO | B2: KOMPONEN BIAYA | C2: Keterangan | D2: UNIT | E2: VOLUME | F2: FREKUENSI | G2: HARGA SATUAN | H2: Total (Rp) | I2: % dari total * | J2: TFCA (Rp) | K2: IPB | L2: Catatan | M2: 14500 | N2: =SUM(N7:N150) -> 0 | O2: =SUM(O7:O150) -> 0 | P2: =SUM(P7:P150) -> 0 | Q2: =SUM(Q7:Q150) -> 0 | R2: =SUM(R7:R150) -> 0 | S2: =SUM(S7:S150) -> 0
A3: 1 | B3: 2 | D3: 3 | E3: 4 | F3: 5 | G3: 6 | H3: 7 | I3: 8 | J3: 9 | K3: 10 | N3: USD | O3: =SUM(N2:P2) -> 0 | Q3: IDR | R3: =SUM(Q2:S2) -> 0
A4: ='Logical Framework'!B14 -> 0
A5: ='Logical Framework'!B18 -> 0
A6: K.1.1.1. | B6: ='Logical Framework'!B27 -> 0
A7: 1111 | C7: ... org x ... kali pp x ….kali kunjungan | H7: =D7*E7*F7*G7 -> 0 | I7: 1 | J7: =H7 -> 0 | M7: =J7/$M$2 -> 0
A8: 1112 | C8: ... org x ... kali pp x ….kali kunjungan | H8: =D8*E8*F8*G8 -> 0 | I8: 1 | J8: =H8 -> 0 | M8: =J8/$M$2 -> 0
A9: 1114 | C9: ... org x ... kali pp x ….kali kunjungan | H9: =D9*E9*F9*G9 -> 0 | I9: 1 | J9: =H9 -> 0 | M9: =J9/$M$2 -> 0
A10: 1115 | C10: ... org x ... kali pp x ….kali kunjungan | H10: =D10*E10*F10*G10 -> 0 | I10: 1 | J10: =H10 -> 0 | M10: =J10/$M$2 -> 0
A11: 1116 | C11: ... org x ... kali pp x ….kali kunjungan | H11: =D11*E11*F11*G11 -> 0 | I11: 1 | J11: =H11 -> 0 | M11: =J11/$M$2 -> 0
A12: 1117 | C12: ... org x ... kali pp x ….kali kunjungan | H12: =D12*E12*F12*G12 -> 0 | I12: 1 | J12: =H12 -> 0 | M12: =J12/$M$2 -> 0
B13: Subtotal K.1.1.1 | H13: =SUM(H7:H12) -> 0 | J13: =SUM(J7:J12) -> 0 | K13: =SUM(K7:K12) -> 0 | M13: =J13/$M$2 -> 0
A14: K.1.1.2 | B14: ='Logical Framework'!B28 -> 0 | M14: =J14/$M$2 -> 0
A15: 1121 | C15: ... org x ... kali pp x ….kali kunjungan | M15: =J15/$M$2 -> 0
A16: 1122 | C16: ... org x ... kali pp x ….kali kunjungan | H16: =D16*E16*F16*G16 -> 0 | I16: 1 | J16: =H16 -> 0 | M16: =J16/$M$2 -> 0
A17: 1123 | C17: ... org x ... kali pp x ….kali kunjungan | H17: =D17*E17*F17*G17 -> 0 | I17: 1 | J17: =H17 -> 0 | M17: =J17/$M$2 -> 0
A18: 1124 | C18: ... org x ... kali pp x ….kali kunjungan | H18: =D18*E18*F18*G18 -> 0 | I18: 1 | J18: =H18 -> 0 | M18: =J18/$M$2 -> 0
A19: 1125 | C19: ... org x ... kali pp x ….kali kunjungan | H19: =D19*E19*F19*G19 -> 0 | I19: 1 | J19: =H19 -> 0 | M19: =J19/$M$2 -> 0
A20: 1126 | C20: ... org x ... kali pp x ….kali kunjungan | H20: =D20*E20*F20*G20 -> 0 | I20: 1 | J20: =H20 -> 0 | M20: =J20/$M$2 -> 0
B21: Subtotal K.1.1.2 | H21: =SUM(H16:H20) -> 0 | J21: =SUM(J16:J20) -> 0 | K21: =SUM(K13:K13) -> 0 | M21: =J21/$M$2 -> 0
A22: K.1.1.3 | B22: ='Logical Framework'!B29 -> 0 | C22: ... paket x ... kali | H22: =D22*E22*F22*G22 -> 0 | I22: 1 | J22: =H22 -> 0 | M22: =J22/$M$2 -> 0
B23: Subtotal K.1.1.3 | H23: =H22 -> 0 | J23: =J22 -> 0 | K23: =SUM(K15:K15) -> 0 | M23: =J23/$M$2 -> 0
B24: Total K.1.1 | H24: =SUM(H23,H21,H13) -> 0 | J24: =SUM(J23,J21,J13) -> 0 | K24: =SUM(K23,K13) -> 0 | M24: =J24/$M$2 -> 0
A25: ='Logical Framework'!B19 -> 0 | M25: =J25/$M$2 -> 0
A26: K.1.2.1 | B26: ='Logical Framework'!B30 -> 0 | M26: =J26/$M$2 -> 0
A27: 1211 | C27: ... org x ... hari x ... kali kunjungan | H27: =D27*E27*F27*G27 -> 0 | I27: 1 | J27: =H27 -> 0 | M27: =J27/$M$2 -> 0
A28: 1212 | C28: ... org x ... hari x ... kali kunjungan | H28: =D28*E28*F28*G28 -> 0 | I28: 1 | J28: =H28 -> 0 | M28: =J28/$M$2 -> 0
A29: 1213 | C29: ... org x ... hari x ... kali kunjungan | H29: =D29*E29*F29*G29 -> 0 | I29: 1 | J29: =H29 -> 0 | M29: =J29/$M$2 -> 0
A30: 1214 | C30: ... org x ... hari x ... kali kunjungan | H30: =D30*E30*F30*G30 -> 0 | I30: 1 | J30: =H30 -> 0 | L30: Akomodasi, Konsumsi dan Insedental Expenses | M30: =J30/$M$2 -> 0
B31: Subtotal K.1.2.1 | H31: =SUM(H27:H30) -> 0 | J31: =SUM(J27:J30) -> 0 | K31: =SUM(K27:K30) -> 0 | M31: =J31/$M$2 -> 0
A32: K.1.2.2 | B32: ='Logical Framework'!B31 -> 0 | M32: =J32/$M$2 -> 0
A33: 1221 | C33: ... unit x ... paket x ... kali kegiatan | H33: =D33*E33*F33*G33 -> 0 | I33: 1 | J33: =H33*I33 -> 0 | M33: =J33/$M$2 -> 0
A34: 1222 | C34: ... unit x ... paket x ... kali kegiatan | H34: =D34*E34*F34*G34 -> 0 | I34: 1 | J34: =H34*I34 -> 0 | M34: =J34/$M$2 -> 0
A35: 1223 | C35: ... unit x ... paket x ... kali kegiatan | H35: =D35*E35*F35*G35 -> 0 | I35: 1 | J35: =H35*I35 -> 0 | M35: =J35/$M$2 -> 0
A36: 1224 | C36: ... unit x ... paket x ... kali kegiatan | H36: =D36*E36*F36*G36 -> 0 | I36: 1 | J36: =H36*I36 -> 0 | M36: =J36/$M$2 -> 0
B37: Subtotal K.1.2.2 | H37: =SUM(H33:H36) -> 0 | J37: =SUM(J33:J36) -> 0 | K37: =SUM(K33:K36) -> 0 | M37: =J37/$M$2 -> 0
B38: Total K.1.2 | H38: =H31+H37 -> 0 | J38: =J31+J37 -> 0 | K38: =K31+K37 -> 0 | M38: =J38/$M$2 -> 0
A39: ='Logical Framework'!B20 -> 0 | M39: =J39/$M$2 -> 0
A40: K.1.3.1 | B40: ='Logical Framework'!B32 -> 0 | M40: =J40/$M$2 -> 0
...

Sheet Cashflow
A1: Arus Kas (Cashflow)
A2: Nama Mitra | E2: Institut Pertanian Bogor (IPB) | N2: =SUM(L14:P14)+K26+L26+SUM(K31:P31)+K32+K35+L35+SUM(M34:M35)+SUM(P32:P35)+O35+SUM(#REF!)+SUM(#REF!)+#REF!+#REF!+#REF!+#REF!+SUM(K44:P51) -> #REF!
A3: Judul Proyek | E3: Pembangunan Pusat Teknologi Reproduksi Berbantu “Assisted Reproductive Technology” (ART) & Bio-Bank untuk Mendukung Konservasi Badak Sumatera | N3: =SUM(K25:P25)+SUM(K27:P27)+N34+SUM(#REF!)+#REF! -> #REF!
N4: =SUM(L32:O32)+N35 -> 0
A6: Komponen Biaya | F6: Tahun 20xx | N6: Tahun 2023 | Z6: Tahun 2024 | AD6: Anggaran | AE6: MANUAL E - AB CROSSCHECK ANGGARAN
F7: Q1 Year 1 | I7: Q2 Year 1 | L7: Q3 Year 1 | O7: Q4 Year 1 | R7: Q1 Year 2 | U7: Q2 Year 2 | X7: Q3 Year 2 | AA7: Q4 Year 2
F8: 5 | G8: 6 | H8: 7 | I8: 8 | J8: 9 | K8: 10 | L8: 11 | M8: 12 | N8: 1 | O8: 2 | P8: 3 | Q8: 4 | R8: 5 | S8: 6 | T8: 7 | U8: 8 | V8: 9 | W8: 10 | X8: 11 | Y8: 12 | Z8: 1 | AA8: 2 | AB8: 3 | AC8: 4 | AD8: TFCA-S
A9: PROGRAM COST
A10: 1 | B10: Komponen 1
A11: 1 | B11: ='Logical Framework'!B14 -> 0
A12: ='[1]Logical Framework Analysis'!A14 -> 1 | B12: 1 | C12: ='Logical Framework'!B18 -> 0
A13: ='[1]Logical Framework Analysis'!A13 -> 1 | B13: ='[1]Logical Framework Analysis'!B13 -> 1 | C13: ='[1]Logical Framework Analysis'!C13 -> 1 | D13: ='Logical Framework'!B27 -> 0 | AD13: =BUDGET!J13 -> 0 | AE13: =SUM(F13:AB13) -> 0
A14: 1 | B14: 1 | C14: 2 | D14: ='Logical Framework'!B28 -> 0 | AD14: =BUDGET!J21 -> 0 | AE14: =SUM(F14:AB14) -> 0
A15: 1 | B15: 1 | C15: 3 | D15: ='Logical Framework'!B29 -> 0 | AD15: =BUDGET!J23 -> 0 | AE15: =SUM(F15:AB15) -> 0
A16: 1 | B16: 2 | C16: ='Logical Framework'!B19 -> 0
A17: ='[1]Logical Framework Analysis'!A19 -> 1 | B17: 2 | C17: 1 | D17: ='Logical Framework'!B30 -> 0 | AD17: =BUDGET!J31 -> 0 | AE17: =SUM(F17:AB17) -> 0
A18: ='[1]Logical Framework Analysis'!A20 -> 1 | B18: 2 | C18: 2 | D18: ='Logical Framework'!B31 -> 0 | AE18: =SUM(F18:AB18) -> 0
A19: ='[1]Logical Framework Analysis'!A21 -> 1 | B19: ='[1]Logical Framework Analysis'!B21 -> 3 | C19: ='Logical Framework'!B20 -> 0
A20: ='[1]Logical Framework Analysis'!A22 -> 1 | B20: 3 | C20: 1 | D20: ='Logical Framework'!B32 -> 0 | AD20: =BUDGET!J45 -> 0 | AE20: =SUM(F20:AB20) -> 0
A21: 2 | B21: Komponen 2
A22: 2 | B22: ='Logical Framework'!B15 -> 0
A23: 2 | B23: 1 | C23: ='Logical Framework'!B21 -> 0
A24: 2 | B24: 1 | C24: 1 | D24: ='Logical Framework'!B33 -> 0 | AD24: =BUDGET!J58 -> 0 | AE24: =SUM(F24:AB24) -> 0
A25: 2 | B25: 1 | C25: 2 | D25: ='Logical Framework'!B34 -> 0 | AD25: =BUDGET!J61 -> 0 | AE25: =SUM(F25:AB25) -> 0
A26: 2 | B26: 2 | C26: ='Logical Framework'!B22 -> 0
A27: 2 | B27: 2 | C27: 1 | D27: ='Logical Framework'!B35 -> 0 | AD27: =BUDGET!J76 -> 0 | AE27: =SUM(F27:AB27) -> 0
A28: 2 | B28: 3 | C28: ='Logical Framework'!B23 -> 0
A29: 2 | B29: 3 | C29: 1 | D29: ='Logical Framework'!B36 -> 0 | AD29: =BUDGET!J83 -> 0 | AE29: =SUM(F29:AB29) -> 0
A30: 2 | B30: 4 | C30: ='Logical Framework'!B24 -> 0
A31: 2 | B31: 4 | C31: 1 | D31: ='Logical Framework'!B37 -> 0 | AD31: =BUDGET!J94 -> 0 | AE31: =SUM(F31:AB31) -> 0
A32: 3 | B32: Komponen 3
A33: 3 | B33: ='Logical Framework'!B16 -> 0
A34: 3 | B34: 1 | C34: ='Logical Framework'!B25 -> 0
A35: 3 | B35: 1 | C35: 1 | D35: ='Logical Framework'!B38 -> 0 | AD35: =BUDGET!J105 -> 0 | AE35: =SUM(F35:AB35) -> 0
A36: 4 | B36: Komponen 4
A37: 4 | B37: =BUDGET!A107 -> K.4. Monitoring, Evaluasi & Publikasi
A38: 4 | B38: 1 | C38: =BUDGET!B108 -> Meeting Koordinasi & Evaluasi | AD38: =BUDGET!J109+BUDGET!J110 -> 0 | AE38: =SUM(F38:AC38) -> 0
A39: 4 | B39: 2 | C39: =BUDGET!B112 -> dst | AD39: =SUM(BUDGET!J113:J115) -> 0 | AE39: =SUM(F39:AB39) -> 0
A40: 4 | B40: 3 | C40: =BUDGET!B116 -> Publikasi Ilmiah International | AD40: =BUDGET!J116 -> 0 | AE40: =SUM(F40:AB40) -> 0
A41: 6 | B41: Komponen 6
...

Sheet PMP
B4: Result (Perubahahan / hasil yang ingin dicapai) | C4: Indikator (Target)_Level Kegiatan | D4: Baseline | E4: Alat Bukti (MOV) | F4: Metode Penggalian Data | G4: Sumber (subyek) Informasi & sampling method | H4: Tools yang perlu disiapkan | I4: Waktu/ Periode | J4: Penanggungjawab
A6: CONTOH | B6: Results 1: Meningkatnya pemahaman petani ladang tentang teknik berladang tanpa bakar | C6: 30 orang petani paham | D6: 0 orang paham | E6: Pre tes & post test Laporan wawancara | F6: Tes tertulis Wawancara | G6: Peserta sosialisasi. Semua peserta. Petani dari tiap dusun @ 4 orang x 3 dusun | H6: Soal tes Panduan wawancara | I6: Saat pelatiha 3 bulan dan 6 bulan setelah pelatihan | J6: Panitia bersama fasilitator Staf lapangan
B10: Results 1: | C10: Ind.1.1.1.
C11: Ind.1.1.2.
C12: dst
B13: Result 2. | C13: Ind. 2.1.1.
C14: Ind. 2.1.2.
C15: …............ Dst
C16: Ind. 2.3.1. Jumlah embrio yang dihasilkan
C17: Ind. 2.4.1. Jumlah sperma, fibroblast dan embrio yang dibekukan
B18: Result 3. | C18: Ind. 3.1.2.

Sheet Detil....
