Workbook

Sheet Logical Framework
A1: Lampiran A. Kerangka Kerja Logis (Logframe)
A2: Nama Mitra
A3: Judul Proyek
A4: Durasi Proyek
A5: Lokasi
A6: Tujuan Umum
A7: Sasaran Proyek
A10: No | B10: Result | C10: Indikator | D10: Sumber Verifikasi | E10: Input (di level Kegiatan) | F10: Asumsi /Resiko | G10: Rencana Mitigasi Risiko
B11: Goal :
B13: Outcome/manfaat
A14: 1 | C14: Indikator Outcome 1. | F14: Asumsi : Resiko :
A15: 2 | C15: Indikator Outcome 2. | F15: Asumsi : Resiko :
A16: 3 | C16: Indikator Outcome 3 | F16: Asumsi : Resiko :
B17: Output/Luaran | D17: sumber verifikasi ????
A18: 1.1 | F18: Asumsi : Resiko :
A19: 1.2 | F19: Asumsi : Resiko :
A20: 1.3 | F20: Asumsi : Resiko :
A21: 2.1 | F21: Asumsi : Resiko :
A22: 2.2 | F22: Asumsi : Resiko :
A23: 2.3 | F23: Asumsi : Resiko :
A24: 2.4 | F24: Asumsi : Resiko :
A25: 3.1 | F25: Asumsi : Resiko :
B26: Aktivitas
A27: 1.1.1 | F27: Asumsi : Resiko :
A28: 1.1.2 | F28: Asumsi : Resiko :
A29: 1.1.3 | F29: Asumsi : Resiko :
A30: 1.2.1 | F30: Asumsi : Resiko :
A31: 1.2.2 | F31: Asumsi : Resiko :
A32: 1.3.1 | F32: Asumsi : Resiko :
A33: 2.1.1 | F33: Asumsi : Resiko :
A34: 2.1.2 | F34: Asumsi : Resiko :
A35: 2.2.1 | F35: Asumsi : Resiko :
A36: 2.3.1 | F36: Asumsi : Resiko :
A37: 2.4.1 | F37: Asumsi : Resiko :
A38: 3.1.1 | F38: Asumsi : Resiko :

Sheet Rencana Kerja
B2: Rencana Kerja
B3: OUTCOME | C3: OUTPUT | D3: AKTIVITAS | E3: TAHUN….... | Q3: TAHUN…. | AC3: ANGGARAN
E5: 1 | F5: 2 | G5: 3 | H5: 4 | I5: 5 | J5: 6 | K5: 7 | L5: 8 | M5: 9 | N5: 10 | O5: 11 | P5: 12 | Q5: 1 | R5: 2 | S5: 3 | T5: 4 | U5: 5 | V5: 6 | W5: 7 | X5: 8 | Y5: 9 | Z5: 10 | AA5: 11 | AB5: 12
B6: ='Logical Framework'!B14 -> 0 | C6: ='Logical Framework'!B18 -> 0 | D6: ='Logical Framework'!B27 -> 0 | AC6: ='Logical Framework'!E27 -> 0
D7: ='Logical Framework'!B28 -> 0 | AC7: ='Logical Framework'!E28 -> 0
D8: ='Logical Framework'!B29 -> 0 | AC8: ='Logical Framework'!E29 -> 0
C9: ='Logical Framework'!B19 -> 0 | D9: ='Logical Framework'!B30 -> 0 | AC9: ='Logical Framework'!E30 -> 0
D10: ='Logical Framework'!B31 -> 0 | AC10: ='Logical Framework'!E31 -> 0
C11: ='Logical Framework'!B20 -> 0 | D11: ='Logical Framework'!B32 -> 0 | AC11: ='Logical Framework'!E32 -> 0
B12: ='Logical Framework'!B15 -> 0 | C12: ='Logical Framework'!B21 -> 0 | D12: ='Logical Framework'!B33 -> 0 | AC12: ='Logical Framework'!E33 -> 0
D13: ='Logical Framework'!B34 -> 0 | AC13: ='Logical Framework'!E34 -> 0
C14: ='Logical Framework'!B22 -> 0 | D14: ='Logical Framework'!B35 -> 0 | AC14: ='Logical Framework'!E35 -> 0
C15: ='Logical Framework'!B23 -> 0 | D15: ='Logical Framework'!B36 -> 0 | AC15: ='Logical Framework'!E36 -> 0
C16: ='Logical Framework'!B24 -> 0 | D16: ='Logical Framework'!B37 -> 0 | AC16: ='Logical Framework'!E37 -> 0
B17: ='Logical Framework'!B16 -> 0 | C17: ='Logical Framework'!B25 -> 0 | D17: ='Logical Framework'!B38 -> 0 | AC17: ='Logical Framework'!E38 -> 0

Sheet BUDGET
N1: IX-7.1 | O1: IX-7.2 | P1: IX-7.3 | Q1: IX-7.1 | R1: IX-7.2 | S1: IX-7.3
A2: NO | B2: KOMPONEN BIAYA | C2: Keterangan | D2: UNIT | E2: VOLUME | F2: FREKUENSI | G2: HARGA SATUAN | H2: Total (Rp) | I2: % dari total * | J2: TFCA (Rp) | K2: IPB | L2: Catatan | M2: 14500 | N2: =SUM(N7:N150) -> 0 | O2: =SUM(O7:O150) -> 0 | P2: =SUM(P7:P150) -> 0 | Q2: =SUM(Q7:Q150) -> 0 | R2: =SUM(R7:R150) -> 0 | S2: =SUM(S7:S150) -> 0
A3: 1 | B3: 2 | D3: 3 | E3: 4 | F3: 5 | G3: 6 | H3: 7 | I3: 8 | J3: 9 | K3: 10 | N3: USD | O3: =SUM(N2:P2) -> 0 | Q3: IDR | R3: =SUM(Q2:S2) -> 0
A4: ='Logical Framework'!B14 -> 0
A5: ='Logical Framework'!B18 -> 0
A6: K.1.1.1. | B6: ='Logical Framework'!B27 -> 0
A7: 1111 | C7: ... org x ... kali pp x ….kali kunjungan | H7: =D7*E7*F7*G7 -> 0 | I7: 1 | J7: =H7 -> 0 | M7: =J7/$M$2 -> 0
A8: 1112 | C8: ... org x ... kali pp x ….kali kunjungan | H8: =D8*E8*F8*G8 -> 0 | I8: 1 | J8: =H8 -> 0 | M8: =J8/$M$2 -> 0
A9: 1114 | C9: ... org x ... kali pp x ….kali kunjungan | H9: =D9*E9*F9*G9 -> 0 | I9: 1 | J9: =H9 -> 0 | M9: =J9/$M$2 -> 0
A10: 1115 | C10: ... org x ... kali pp x ….kali kunjungan | H10: =D10*E10*F10*G10 -> 0 | I10: 1 | J10: =H10 -> 0 | M10: =J10/$M$2 -> 0
A11: 1116 | C11: ... org x ... kali pp x ….kali kunjungan | H11: =D11*E11*F11*G11 -> 0 | I11: 1 | J11: =H11 -> 0 | M11: =J11/$M$2 -> 0
A12: 1117 | C12: ... org x ... kali pp x ….kali kunjungan | H12: =D12*E12*F12*G12 -> 0 | I12: 1 | J12: =H12 -> 0 | M12: =J12/$M$2 -> 0
B13: Subtotal K.1.1.1 | H13: =SUM(H7:H12) -> 0 | J13: =SUM(J7:J12) -> 0 | K13: =SUM(K7:K12) -> 0 | M13: =J13/$M$2 -> 0
A14: K.1.1.2 | B14: ='Logical Framework'!B28 -> 0 | M14: =J14/$M$2 -> 0
A15: 1121 | C15: ... org x ... kali pp x ….kali kunjungan | M15: =J15/$M$2 -> 0
A16: 1122 | C16: ... org x ... kali pp x ….kali kunjungan | H16: =D16*E16*F16*G16 -> 0 | I16: 1 | J16: =H16 -> 0 | M16: =J16/$M$2 -> 0
A17: 1123 | C17: ... org x ... kali pp x ….kali kunjungan | H17: =D17*E17*F17*G17 -> 0 | I17: 1 | J17: =H17 -> 0 | M17: =J17/$M$2 -> 0
A18: 1124 | C18: ... org x ... kali pp x ….kali kunjungan | H18: =D18*E18*F18*G18 -> 0 | I18: 1 | J18: =H18 -> 0 | M18: =J18/$M$2 -> 0
A19: 1125 | C19: ... org x ... kali pp x ….kali kunjungan | H19: =D19*E19*F19*G19 -> 0 | I19: 1 | J19: =H19 -> 0 | M19: =J19/$M$2 -> 0
A20: 1126 | C20: ... org x ... kali pp x ….kali kunjungan | H20: =D20*E20*F20*G20 -> 0 | I20: 1 | J20: =H20 -> 0 | M20: =J20/$M$2 -> 0
B21: Subtotal K.1.1.2 | H21: =SUM(H16:H20) -> 0 | J21: =SUM(J16:J20) -> 0 | K21: =SUM(K13:K13) -> 0 | M21: =J21/$M$2 -> 0
A22: K.1.1.3 | B22: ='Logical Framework'!B29 -> 0 | C22: ... paket x ... kali | H22: =D22*E22*F22*G22 -> 0 | I22: 1 | J22: =H22 -> 0 | M22: =J22/$M$2 -> 0
B23: Subtotal K.1.1.3 | H23: =H22 -> 0 | J23: =J22 -> 0 | K23: =SUM(K15:K15) -> 0 | M23: =J23/$M$2 -> 0
B24: Total K.1.1 | H24: =SUM(H23,H21,H13) -> 0 | J24: =SUM(J23,J21,J13) -> 0 | K24: =SUM(K23,K13) -> 0 | M24: =J24/$M$2 -> 0
A25: ='Logical Framework'!B19 -> 0 | M25: =J25/$M$2 -> 0
A26: K.1.2.1 | B26: ='Logical Framework'!B30 -> 0 | M26: =J26/$M$2 -> 0
A27: 1211 | C27: ... org x ... hari x ... kali kunjungan | H27: =D27*E27*F27*G27 -> 0 | I27: 1 | J27: =H27 -> 0 | M27: =J27/$M$2 -> 0
A28: 1212 | C28: ... org x ... hari x ... kali kunjungan | H28: =D28*E28*F28*G28 -> 0 | I28: 1 | J28: =H28 -> 0 | M28: =J28/$M$2 -> 0
A29: 1213 | C29: ... org x ... hari x ... kali kunjungan | H29: =D29*E29*F29*G29 -> 0 | I29: 1 | J29: =H29 -> 0 | M29: =J29/$M$2 -> 0
A30: 1214 | C30: ... org x ... hari x ... kali kunjungan | H30: =D30*E30*F30*G30 -> 0 | I30: 1 | J30: =H30 -> 0 | L30: Akomodasi, Konsumsi dan Insedental Expenses | M30: =J30/$M$2 -> 0
B31: Subtotal K.1.2.1 | H31: =SUM(H27:H30) -> 0 | J31: =SUM(J27:J30) -> 0 | K31: =SUM(K27:K30) -> 0 | M31: =J31/$M$2 -> 0
A32: K.1.2.2 | B32: ='Logical Framework'!B31 -> 0 | M32: =J32/$M$2 -> 0
A33: 1221 | C33: ... unit x ... paket x ... kali kegiatan | H33: =D33*E33*F33*G33 -> 0 | I33: 1 | J33: =H33*I33 -> 0 | M33: =J33/$M$2 -> 0
A34: 1222 | C34: ... unit x ... paket x ... kali kegiatan | H34: =D34*E34*F34*G34 -> 0 | I34: 1 | J34: =H34*I34 -> 0 | M34: =J34/$M$2 -> 0
A35: 1223 | C35: ... unit x ... paket x ... kali kegiatan | H35: =D35*E35*F35*G35 -> 0 | I35: 1 | J35: =H35*I35 -> 0 | M35: =J35/$M$2 -> 0
A36: 1224 | C36: ... unit x ... paket x ... kali kegiatan | H36: =D36*E36*F36*G36 -> 0 | I36: 1 | J36: =H36*I36 -> 0 | M36: =J36/$M$2 -> 0
B37: Subtotal K.1.2.2 | H37: =SUM(H33:H36) -> 0 | J37: =SUM(J33:J36) -> 0 | K37: =SUM(K33:K36) -> 0 | M37: =J37/$M$2 -> 0
B38: Total K.1.2 | H38: =H31+H37 -> 0 | J38: =J31+J37 -> 0 | K38: =K31+K37 -> 0 | M38: =J38/$M$2 -> 0
A39: ='Logical Framework'!B20 -> 0 | M39: =J39/$M$2 -> 0
A40: K.1.3.1 | B40: ='Logical Framework'!B32 -> 0 | M40: =J40/$M$2 -> 0
A41: 1311 | C41: ... org x ... hari x ... kali kunjungan | H41: =D41*E41*F41*G41 -> 0 | I41: 1 | J41: =H41 -> 0 | M41: =J41/$M$2 -> 0
A42: 1312 | C42: ... org x ... hari x ... kali kunjungan | H42: =D42*E42*F42*G42 -> 0 | I42: 1 | J42: =H42 -> 0 | M42: =J42/$M$2 -> 0
A43: 1313 | C43: ... org x ... hari x ... kali kunjungan | H43: =D43*E43*F43*G43 -> 0 | I43: 1 | J43: =H43 -> 0 | M43: =J43/$M$2 -> 0
A44: 1314 | C44: ... org x ... hari x ... kali kunjungan | H44: =D44*E44*F44*G44 -> 0 | I44: 1 | J44: =H44 -> 0 | M44: =J44/$M$2 -> 0
B45: Subtotal K.1.3.1 | H45: =SUM(H41:H44) -> 0 | J45: =SUM(J41:J44) -> 0 | K45: =SUM(K41:K44) -> 0 | L45: Akomodasi, Konsumsi dan Insedental Expenses | M45: =J45/$M$2 -> 0
B46: Totak K.1.3 | H46: =H45 -> 0 | J46: =J45 -> 0 | K46: =K45 -> 0 | M46: =J46/$M$2 -> 0
B47: TOTAL K.1 | H47: =SUM(H46,H38,H24) -> 0 | J47: =SUM(J46,J38,J24) -> 0 | K47: =SUM(K46,K38,K24) -> 0 | M47: =J47/$M$2 -> 0 | P47: =M47 -> 0 | S47: =J47 -> 0
A48: ='Logical Framework'!B15 -> 0 | M48: =J48/$M$2 -> 0
A49: ='Logical Framework'!B21 -> 0 | M49: =J49/$M$2 -> 0
A50: K.2.1.1 | B50: ='Logical Framework'!B33 -> 0 | M50: =J50/$M$2 -> 0
A51: 2111 | C51: ... paket x ... kali | H51: =D51*E51*F51*G51 -> 0 | I51: 1 | J51: =H51 -> 0 | M51: =J51/$M$2 -> 0 | O51: =M51 -> 0 | R51: =J51 -> 0
A52: 2112 | C52: ... paket x ... kali | H52: =D52*E52*F52*G52 -> 0 | I52: 1 | J52: =H52 -> 0 | M52: =J52/$M$2 -> 0 | O52: =M52 -> 0 | R52: =J52 -> 0
A53: 2113 | C53: ... paket x ... kali | H53: =D53*E53*F53*G53 -> 0 | I53: 1 | J53: =H53 -> 0 | M53: =J53/$M$2 -> 0 | N53: =M53 -> 0 | Q53: =J53 -> 0
A54: 2114 | C54: ... paket x ... kali | H54: =D54*E54*F54*G54 -> 0 | I54: 1 | J54: =H54 -> 0 | M54: =J54/$M$2 -> 0 | N54: =M54 -> 0 | Q54: =J54 -> 0
A55: 2115 | C55: ... paket x ... kali | H55: =D55*E55*F55*G55 -> 0 | I55: 1 | J55: =H55 -> 0 | M55: =J55/$M$2 -> 0 | N55: =M55 -> 0 | Q55: =J55 -> 0
A56: 2116 | C56: ... paket x ... kali | H56: =D56*E56*F56*G56 -> 0 | I56: 1 | J56: =H56 -> 0 | M56: =J56/$M$2 -> 0 | N56: =M56 -> 0 | Q56: =J56 -> 0
A57: 2117 | C57: ... Paket | H57: =D57*E57*F57*G57 -> 0 | I57: 1 | K57: =D57*E57*F57*G57 -> 0 | M57: =J57/$M$2 -> 0
B58: Subtotal K.2.1.1 | H58: =SUM(H51:H57) -> 0 | J58: =SUM(J51:J57) -> 0 | K58: =SUM(K51:K57) -> 0 | M58: =J58/$M$2 -> 0
A59: K.2.1.2 | B59: ='Logical Framework'!B34 -> 0 | M59: =J59/$M$2 -> 0
A60: 2121 | C60: ... unit x ... paket x ... kali kegiatan | H60: =D60*E60*F60*G60 -> 0 | I60: 1 | J60: =H60 -> 0 | M60: =J60/$M$2 -> 0
B61: Subtotal K.2.1.2 | H61: =SUM(H60:H60) -> 0 | J61: =SUM(J60:J60) -> 0 | K61: =SUM(K60:K60) -> 0 | M61: =J61/$M$2 -> 0 | N61: =M61 -> 0 | Q61: =J61 -> 0
B62: Totak K.2.1 | H62: =SUM(H58+H61) -> 0 | J62: =SUM(J58+J61) -> 0 | K62: =SUM(K58+K61) -> 0 | M62: =J62/$M$2 -> 0
A63: ='Logical Framework'!B22 -> 0 | M63: =J63/$M$2 -> 0
A64: K.2.2.1 | B64: ='Logical Framework'!B35 -> 0 | M64: =J64/$M$2 -> 0
A65: 2211 | C65: ... org x ... hari x ... kali kunjungan | H65: =D65*E65*F65*G65 -> 0 | I65: 1 | J65: =H65 -> 0 | M65: =J65/$M$2 -> 0
A66: 2212 | C66: ... org x ... hari x ... kali kunjungan | H66: =D66*E66*F66*G66 -> 0 | I66: 1 | J66: =H66 -> 0 | M66: =J66/$M$2 -> 0
A67: 2213 | C67: ... org x ... mlm x … kali kunjungan | H67: =D67*E67*F67*G67 -> 0 | I67: 1 | J67: =H67 -> 0 | M67: =J67/$M$2 -> 0
A68: 2214 | C68: ... org x ... mlm x … kali kunjungan | H68: =D68*E68*F68*G68 -> 0 | I68: 1 | J68: =H68 -> 0 | M68: =J68/$M$2 -> 0
A69: 2215 | C69: ... org x ... kali pp x ….kali kunjungan | H69: =D69*E69*F69*G69 -> 0 | I69: 1 | J69: =H69 -> 0 | M69: =J69/$M$2 -> 0
A70: 2216 | C70: ... org x ... kali pp x ….kali kunjungan | H70: =D70*E70*F70*G70 -> 0 | I70: 1 | J70: =H70 -> 0 | M70: =J70/$M$2 -> 0
A71: 2217 | C71: ... org x ... kali pp x ….kali kunjungan | H71: =D71*E71*F71*G71 -> 0 | I71: 1 | J71: =H71 -> 0 | M71: =J71/$M$2 -> 0
A72: 2218 | C72: ... org x ... kali pp x ….kali kunjungan | H72: =D72*E72*F72*G72 -> 0 | I72: 1 | J72: =H72 -> 0 | M72: =J72/$M$2 -> 0
A73: 2219 | C73: ... org x ... hari x ... kali kunjungan | H73: =D73*E73*F73*G73 -> 0 | I73: 1 | J73: =H73 -> 0 | M73: =J73/$M$2 -> 0
A74: 2220 | C74: ... org x ... hari x ... kali kunjungan | H74: =D74*E74*F74*G74 -> 0 | I74: 1 | J74: =H74 -> 0 | M74: =J74/$M$2 -> 0
B75: Subtotal K.2.2.1 | H75: =SUM(H65:H74) -> 0 | J75: =SUM(J65:J74) -> 0 | K75: =SUM(K67:K74) -> 0 | M75: =J75/$M$2 -> 0
B76: Totak K.2.2 | H76: =H75 -> 0 | J76: =J75 -> 0 | K76: =K75 -> 0 | M76: =J76/$M$2 -> 0 | N76: =M76 -> 0 | Q76: =J76 -> 0
A77: …........................ dan seterusnya | M77: =J77/$M$2 -> 0
A78: K.2.3.1 | M78: =J78/$M$2 -> 0
A79: 2311 | H79: =D79*E79*F79*G79 -> 0 | I79: 1 | J79: =H79 -> 0 | M79: =J79/$M$2 -> 0
A80: 2312 | H80: =D80*E80*F80*G80 -> 0 | I80: 1 | J80: =H80 -> 0 | M80: =J80/$M$2 -> 0
A81: 2313 | H81: =D81*E81*F81*G81 -> 0 | I81: 1 | J81: =H81 -> 0 | M81: =J81/$M$2 -> 0
B82: Subtotal K.2.3.1 | H82: =SUM(H78:H81) -> 0 | J82: =SUM(J78:J81) -> 0 | K82: =SUM(K78:K81) -> 0 | M82: =J82/$M$2 -> 0
B83: Totak K.2.3 | H83: =H82 -> 0 | J83: =J82 -> 0 | K83: =K82 -> 0 | M83: =J83/$M$2 -> 0 | N83: =M83 -> 0 | Q83: =J83 -> 0
M84: =J84/$M$2 -> 0
M85: =J85/$M$2 -> 0
H86: =D86*E86*F86*G86 -> 0 | I86: 1 | J86: =H86 -> 0 | M86: =J86/$M$2 -> 0
H87: =D87*E87*F87*G87 -> 0 | I87: 1 | J87: =H87 -> 0 | M87: =J87/$M$2 -> 0
H88: =D88*E88*F88*G88 -> 0 | I88: 1 | J88: =H88 -> 0 | M88: =J88/$M$2 -> 0
H89: =D89*E89*F89*G89 -> 0 | I89: 1 | J89: =H89 -> 0 | M89: =J89/$M$2 -> 0
H90: =D90*E90*F90*G90 -> 0 | I90: 1 | J90: =H90 -> 0 | M90: =J90/$M$2 -> 0
H91: =D91*E91*F91*G91 -> 0 | I91: 1 | J91: =H91 -> 0 | M91: =J91/$M$2 -> 0
H92: =D92*E92*F92*G92 -> 0 | I92: 1 | J92: =H92 -> 0 | M92: =J92/$M$2 -> 0
B93: Subtotal K.2.4.1 | H93: =SUM(H85:H92) -> 0 | J93: =SUM(J85:J92) -> 0 | K93: =SUM(K85:K92) -> 0 | M93: =J93/$M$2 -> 0
B94: Totak K.2.4 | H94: =H93 -> 0 | J94: =J93 -> 0 | K94: =K93 -> 0 | M94: =J94/$M$2 -> 0 | N94: =M94 -> 0 | Q94: =J94 -> 0
B95: TOTAL K.2 | H95: =SUM(H94,H83,H76,H62) -> 0 | J95: =SUM(J94,J83,J76,J62) -> 0 | K95: =SUM(K94,K83,K76,K62) -> 0 | M95: =J95/$M$2 -> 0
M96: =J96/$M$2 -> 0
M97: =J97/$M$2 -> 0
M98: =J98/$M$2 -> 0
H99: =D99*E99*F99*G99 -> 0 | I99: 1 | J99: =H99 -> 0 | M99: =J99/$M$2 -> 0
H100: =D100*E100*F100*G100 -> 0 | I100: 1 | J100: =H100 -> 0 | M100: =J100/$M$2 -> 0
...

Sheet Cashflow
A1: Arus Kas (Cashflow)
A2: Nama Mitra | E2: Institut Pertanian Bogor (IPB) | N2: =SUM(L14:P14)+K26+L26+SUM(K31:P31)+K32+K35+L35+SUM(M34:M35)+SUM(P32:P35)+O35+SUM(#REF!)+SUM(#REF!)+#REF!+#REF!+#REF!+#REF!+SUM(K44:P51) -> #REF!
A3: Judul Proyek | E3: Pembangunan Pusat Teknologi Reproduksi Berbantu “Assisted Reproductive Technology” (ART) & Bio-Bank untuk Mendukung Konservasi Badak Sumatera | N3: =SUM(K25:P25)+SUM(K27:P27)+N34+SUM(#REF!)+#REF! -> #REF!
N4: =SUM(L32:O32)+N35 -> 0
A6: Komponen Biaya | F6: Tahun 20xx | N6: Tahun 2023 | Z6: Tahun 2024 | AD6: Anggaran | AE6: MANUAL E - AB CROSSCHECK ANGGARAN
F7: Q1 Year 1 | I7: Q2 Year 1 | L7: Q3 Year 1 | O7: Q4 Year 1 | R7: Q1 Year 2 | U7: Q2 Year 2 | X7: Q3 Year 2 | AA7: Q4 Year 2
F8: 5 | G8: 6 | H8: 7 | I8: 8 | J8: 9 | K8: 10 | L8: 11 | M8: 12 | N8: 1 | O8: 2 | P8: 3 | Q8: 4 | R8: 5 | S8: 6 | T8: 7 | U8: 8 | V8: 9 | W8: 10 | X8: 11 | Y8: 12 | Z8: 1 | AA8: 2 | AB8: 3 | AC8: 4 | AD8: TFCA-S
A9: PROGRAM COST
A10: 1 | B10: Komponen 1
A11: 1 | B11: ='Logical Framework'!B14 -> 0
A12: ='[1]Logical Framework Analysis'!A14 -> 1 | B12: 1 | C12: ='Logical Framework'!B18 -> 0
A13: ='[1]Logical Framework Analysis'!A13 -> 1 | B13: ='[1]Logical Framework Analysis'!B13 -> 1 | C13: ='[1]Logical Framework Analysis'!C13 -> 1 | D13: ='Logical Framework'!B27 -> 0 | AD13: =BUDGET!J13 -> 0 | AE13: =SUM(F13:AB13) -> 0
A14: 1 | B14: 1 | C14: 2 | D14: ='Logical Framework'!B28 -> 0 | AD14: =BUDGET!J21 -> 0 | AE14: =SUM(F14:AB14) -> 0
A15: 1 | B15: 1 | C15: 3 | D15: ='Logical Framework'!B29 -> 0 | AD15: =BUDGET!J23 -> 0 | AE15: =SUM(F15:AB15) -> 0
A16: 1 | B16: 2 | C16: ='Logical Framework'!B19 -> 0
A17: ='[1]Logical Framework Analysis'!A19 -> 1 | B17: 2 | C17: 1 | D17: ='Logical Framework'!B30 -> 0 | AD17: =BUDGET!J31 -> 0 | AE17: =SUM(F17:AB17) -> 0
A18: ='[1]Logical Framework Analysis'!A20 -> 1 | B18: 2 | C18: 2 | D18: ='Logical Framework'!B31 -> 0 | AE18: =SUM(F18:AB18) -> 0
A19: ='[1]Logical Framework Analysis'!A21 -> 1 | B19: ='[1]Logical Framework Analysis'!B21 -> 3 | C19: ='Logical Framework'!B20 -> 0
A20: ='[1]Logical Framework Analysis'!A22 -> 1 | B20: 3 | C20: 1 | D20: ='Logical Framework'!B32 -> 0 | AD20: =BUDGET!J45 -> 0 | AE20: =SUM(F20:AB20) -> 0
A21: 2 | B21: Komponen 2
A22: 2 | B22: ='Logical Framework'!B15 -> 0
A23: 2 | B23: 1 | C23: ='Logical Framework'!B21 -> 0
A24: 2 | B24: 1 | C24: 1 | D24: ='Logical Framework'!B33 -> 0 | AD24: =BUDGET!J58 -> 0 | AE24: =SUM(F24:AB24) -> 0
A25: 2 | B25: 1 | C25: 2 | D25: ='Logical Framework'!B34 -> 0 | AD25: =BUDGET!J61 -> 0 | AE25: =SUM(F25:AB25) -> 0
A26: 2 | B26: 2 | C26: ='Logical Framework'!B22 -> 0
A27: 2 | B27: 2 | C27: 1 | D27: ='Logical Framework'!B35 -> 0 | AD27: =BUDGET!J76 -> 0 | AE27: =SUM(F27:AB27) -> 0
A28: 2 | B28: 3 | C28: ='Logical Framework'!B23 -> 0
A29: 2 | B29: 3 | C29: 1 | D29: ='Logical Framework'!B36 -> 0 | AD29: =BUDGET!J83 -> 0 | AE29: =SUM(F29:AB29) -> 0
A30: 2 | B30: 4 | C30: ='Logical Framework'!B24 -> 0
A31: 2 | B31: 4 | C31: 1 | D31: ='Logical Framework'!B37 -> 0 | AD31: =BUDGET!J94 -> 0 | AE31: =SUM(F31:AB31) -> 0
A32: 3 | B32: Komponen 3
A33: 3 | B33: ='Logical Framework'!B16 -> 0
A34: 3 | B34: 1 | C34: ='Logical Framework'!B25 -> 0
A35: 3 | B35: 1 | C35: 1 | D35: ='Logical Framework'!B38 -> 0 | AD35: =BUDGET!J105 -> 0 | AE35: =SUM(F35:AB35) -> 0
A36: 4 | B36: Komponen 4
A37: 4 | B37: =BUDGET!A107 -> K.4. Monitoring, Evaluasi & Publikasi
A38: 4 | B38: 1 | C38: =BUDGET!B108 -> Meeting Koordinasi & Evaluasi | AD38: =BUDGET!J109+BUDGET!J110 -> 0 | AE38: =SUM(F38:AC38) -> 0
A39: 4 | B39: 2 | C39: =BUDGET!B112 -> dst | AD39: =SUM(BUDGET!J113:J115) -> 0 | AE39: =SUM(F39:AB39) -> 0
A40: 4 | B40: 3 | C40: =BUDGET!B116 -> Publikasi Ilmiah International | AD40: =BUDGET!J116 -> 0 | AE40: =SUM(F40:AB40) -> 0
A41: 6 | B41: Komponen 6
A42: 6 | B42: Biaya Manajemen
A43: 6 | B43: 1 | C43: Gaji Staf Pelaksana | AD43: =BUDGET!J125 -> 0 | AE43: =SUM(F43:AC43) -> 0
A44: 6 | B44: 2 | C44: Asuransi Staf Pelaksana | AD44: =BUDGET!J131 -> 0 | AE44: =SUM(F44:AC44) -> 0
A45: 7 | B45: Komponen 7
A46: 7 | B46: Office Running | AD46: =BUDGET!J138 -> 0 | AE46: =SUM(F46:AC46) -> 0
A47: 8 | B47: Komponen 8
A48: 8 | B48: Pengadaan Barang
A49: 8 | B49: 1 | C49: Peralatan Kantor | AD49: =BUDGET!J145 -> 0 | AE49: =SUM(F49:AB49) -> 0
A50: 9 | B50: Audit Keuangan | AD50: =BUDGET!J149 -> 0 | AE50: =SUM(F50:AB50) -> 0
E51: TOTAL | F51: =SUM(F11:F50) -> 0 | G51: =SUM(G11:G50) -> 0 | H51: =SUM(H11:H50) -> 0 | I51: =SUM(I11:I50) -> 0 | J51: =SUM(J11:J50) -> 0 | K51: =SUM(K11:K50) -> 0 | L51: =SUM(L11:L50) -> 0 | M51: =SUM(M11:M50) -> 0 | ... AC51: =SUM(AC11:AC50) -> 0 | AD51: =SUM(AD12:AD50) -> 0 | AE51: =SUM(AE12:AE50) -> 0

Sheet PMP
B4: Result (Perubahahan / hasil yang ingin dicapai) | C4: Indikator (Target)_Level Kegiatan | D4: Baseline | E4: Alat Bukti (MOV) | F4: Metode Penggalian Data | G4: Sumber (subyek) Informasi & sampling method | H4: Tools yang perlu disiapkan | I4: Waktu/ Periode | J4: Penanggungjawab
A6: CONTOH | B6: Results 1: Meningkatnya pemahaman petani ladang tentang teknik berladang tanpa bakar | C6: 30 orang petani paham | D6: 0 orang paham | E6: Pre tes & post test Laporan wawancara | F6: Tes tertulis Wawancara | G6: Peserta sosialisasi. Semua peserta. Petani dari tiap dusun @ 4 orang x 3 dusun | H6: Soal tes Panduan wawancara | I6: Saat pelatiha 3 bulan dan 6 bulan setelah pelatihan | J6: Panitia bersama fasilitator Staf lapangan
B10: Results 1: | C10: Ind.1.1.1.
C11: Ind.1.1.2.
C12: dst
B13: Result 2. | C13: Ind. 2.1.1.
C14: Ind. 2.1.2.
C15: …............ Dst
C16: Ind. 2.3.1. Jumlah embrio yang dihasilkan
C17: Ind. 2.4.1. Jumlah sperma, fibroblast dan embrio yang dibekukan
B18: Result 3. | C18: Ind. 3.1.2.

Sheet Detil....
